BEGIN:VCALENDAR
PRODID:-//HH//NONSGML Cascade Server//EN
VERSION:2.0
X-WR-CALNAME:Annual CSM JazzFest
X-WR-TIMEZONE:America/New_York
X-WR-CALDESC:
BEGIN:VTIMEZONE
TZID:America/New_York
BEGIN:DAYLIGHT
TZOFFSETFROM:-0500
TZOFFSETTO:-0400
TZNAME:EDT
DTSTART:19700308T020000
RRULE:FREQ=YEARLY;BYMONTH=3;BYDAY=2SU
END:DAYLIGHT
BEGIN:STANDARD
TZOFFSETFROM:-0400
TZOFFSETTO:-0500
TZNAME:EST
DTSTART:19701101T020000
RRULE:FREQ=YEARLY;BYMONTH=11;BYDAY=1SU
END:STANDARD
END:VTIMEZONE
BEGIN:VEVENT
DTSTART:20260425T193000
DTEND:20260425T213000
DTSTAMP:20260423T042235
UID:d9c72a45ac1e00ac42cd31b1a83c8dd2
CREATED:20260120T000106
DESCRIPTION:Annual CSM JazzFest
LAST-MODIFIED:20260422T171011
LOCATION:La Plata Campus\, Hank Willoughby Foundation Center for the Arts 
(FA Building)\, Brad and Linda Gottfried Theater
SEQUENCE:0
STATUS:CONFIRMED
SUMMARY:Annual CSM JazzFest
TRANSP:OPAQUE
END:VEVENT
END:VCALENDAR
# <pass-through></pass-through>