BEGIN:VCALENDAR
PRODID:-//HH//NONSGML Cascade Server//EN
VERSION:2.0
X-WR-CALNAME:CSM Choirs: 'A Spring Choral Celebration'
X-WR-TIMEZONE:America/New_York
X-WR-CALDESC:
BEGIN:VTIMEZONE
TZID:America/New_York
BEGIN:DAYLIGHT
TZOFFSETFROM:-0500
TZOFFSETTO:-0400
TZNAME:EDT
DTSTART:19700308T020000
RRULE:FREQ=YEARLY;BYMONTH=3;BYDAY=2SU
END:DAYLIGHT
BEGIN:STANDARD
TZOFFSETFROM:-0400
TZOFFSETTO:-0500
TZNAME:EST
DTSTART:19701101T020000
RRULE:FREQ=YEARLY;BYMONTH=11;BYDAY=1SU
END:STANDARD
END:VTIMEZONE
BEGIN:VEVENT
DTSTART:20260430T193000
DTEND:20260430T220000
DTSTAMP:20260422T010721
UID:072e7774ac1e00ac31acdf3bc026cb18
CREATED:20260128T193651
DESCRIPTION:'A Spring Choral Celebration'
LAST-MODIFIED:20260203T192828
LOCATION:
SEQUENCE:0
STATUS:CONFIRMED
SUMMARY:CSM Choirs: 'A Spring Choral Celebration'
TRANSP:OPAQUE
END:VEVENT
END:VCALENDAR
# <pass-through></pass-through>