BEGIN:VCALENDAR
PRODID:-//HH//NONSGML Cascade Server//EN
VERSION:2.0
X-WR-CALNAME:Transfer Thursday: St. Mary's College of Maryland
X-WR-TIMEZONE:America/New_York
X-WR-CALDESC:
BEGIN:VTIMEZONE
TZID:America/New_York
BEGIN:DAYLIGHT
TZOFFSETFROM:-0500
TZOFFSETTO:-0400
TZNAME:EDT
DTSTART:19700308T020000
RRULE:FREQ=YEARLY;BYMONTH=3;BYDAY=2SU
END:DAYLIGHT
BEGIN:STANDARD
TZOFFSETFROM:-0400
TZOFFSETTO:-0500
TZNAME:EST
DTSTART:19701101T020000
RRULE:FREQ=YEARLY;BYMONTH=11;BYDAY=1SU
END:STANDARD
END:VTIMEZONE
BEGIN:VEVENT
DTSTART:20260430T110000
DTEND:20260430T130000
DTSTAMP:20260422T010740
UID:23f6ea5cac1e00ac150713466183910b
CREATED:20251215T164223
DESCRIPTION:Transfer institutions are now coming to you virtually each Thu
rsday from 11 a.m. - 1 p.m.
LAST-MODIFIED:20260310T143138
LOCATION:Register Online Now
SEQUENCE:0
STATUS:CONFIRMED
SUMMARY:Transfer Thursday: St. Mary's College of Maryland
TRANSP:OPAQUE
END:VEVENT
END:VCALENDAR
# <pass-through></pass-through>