BEGIN:VCALENDAR
PRODID:-//HH//NONSGML Cascade Server//EN
VERSION:2.0
X-WR-CALNAME:Summer Field Day
X-WR-TIMEZONE:America/New_York
X-WR-CALDESC:
BEGIN:VTIMEZONE
TZID:America/New_York
BEGIN:DAYLIGHT
TZOFFSETFROM:-0500
TZOFFSETTO:-0400
TZNAME:EDT
DTSTART:19700308T020000
RRULE:FREQ=YEARLY;BYMONTH=3;BYDAY=2SU
END:DAYLIGHT
BEGIN:STANDARD
TZOFFSETFROM:-0400
TZOFFSETTO:-0500
TZNAME:EST
DTSTART:19701101T020000
RRULE:FREQ=YEARLY;BYMONTH=11;BYDAY=1SU
END:STANDARD
END:VTIMEZONE
BEGIN:VEVENT
DTSTART:20260501T110000
DTEND:20260501T140000
DTSTAMP:20260423T042500
UID:b61b3363ac1e00ac04de04997a7cea1a
CREATED:20260422T125209
DESCRIPTION:Summer Field Day
LAST-MODIFIED:20260422T130137
LOCATION:La Plata Campus\, Soccer Field/Physical Education Center (PE Buil
ding)
SEQUENCE:0
STATUS:CONFIRMED
SUMMARY:Summer Field Day
TRANSP:OPAQUE
END:VEVENT
END:VCALENDAR
# <pass-through></pass-through>